BEGIN:VCALENDAR
VERSION:2.0
PRODID:-//ChamberMaster//Event Calendar 2.0//EN
METHOD:PUBLISH
X-PUBLISHED-TTL:P3D
REFRESH-INTERVAL:P3D
CALSCALE:GREGORIAN
BEGIN:VEVENT
DTSTART:20201023T003000Z
DTEND:20201023T020000Z
X-MICROSOFT-CDO-ALLDAYEVENT:FALSE
SUMMARY:October Chamber Mixer - Bingo Re
DESCRIPTION:Will be rescheduled
X-ALT-DESC;FMTTYPE=text/html:Will be rescheduled
LOCATION:
UID:e.1780.2798
SEQUENCE:3
DTSTAMP:20260422T222204Z
URL:http://business.sausalito.org/events/details/october-chamber-mixer-bingo-re-2798
END:VEVENT

END:VCALENDAR
