BEGIN:VCALENDAR
VERSION:2.0
PRODID:-//ChamberMaster//Event Calendar 2.0//EN
METHOD:PUBLISH
X-PUBLISHED-TTL:P3D
REFRESH-INTERVAL:P3D
CALSCALE:GREGORIAN
BEGIN:VEVENT
DTSTART:20181116T013000Z
DTEND:20181116T033000Z
X-MICROSOFT-CDO-ALLDAYEVENT:FALSE
SUMMARY:November Mixer - Studio 333
DESCRIPTION:Monthly Mixer\n\nTheme:  Wear Your Favorite Team Colors
X-ALT-DESC;FMTTYPE=text/html:Monthly Mixer<br />\nTheme:&nbsp\; Wear Your Favorite Team Colors
LOCATION:Studio 333 - Caledonia Street
UID:e.1780.1861
SEQUENCE:3
DTSTAMP:20260424T085520Z
URL:http://business.sausalito.org/events/details/november-mixer-studio-333-1861
END:VEVENT

END:VCALENDAR
