BEGIN:VCALENDAR
VERSION:2.0
PRODID:-//ChamberMaster//Event Calendar 2.0//EN
METHOD:PUBLISH
X-PUBLISHED-TTL:P3D
REFRESH-INTERVAL:P3D
CALSCALE:GREGORIAN
BEGIN:VEVENT
DTSTART:20200117T013000Z
DTEND:20200117T033000Z
X-MICROSOFT-CDO-ALLDAYEVENT:FALSE
SUMMARY:New Year Mixer @Sausalito Fitness Club
DESCRIPTION:Join us for the first mixer of 2020 hosted by Sausalito Fitness Club\, 3020 Bridgeway. Meet the new owners and say Happy New Year to everyone . We will be unveiling our new Travel Trip to Morocco in the Fall of 2020 and welcoming our 2020 Board of Directors .
X-ALT-DESC;FMTTYPE=text/html:<span data-offset-key="9ggv9-0-0"><span data-text="true">Join us for the first mixer of 2020 hosted by Sausalito Fitness Club\, 3020 Bridgeway. Meet the new owners and say Happy New Year to everyone . We will be unveiling our new Travel Trip to Morocco in the Fall of 2020 and welcoming our 2020 Board of Directors .</span></span>
LOCATION:3020 Bridgeway Sausalito\, CA 94965
UID:e.1780.2342
SEQUENCE:3
DTSTAMP:20260423T095525Z
URL:http://business.sausalito.org/events/details/new-year-mixer-sausalito-fitness-club-2342
END:VEVENT

END:VCALENDAR
