BEGIN:VCALENDAR
VERSION:2.0
PRODID:-//ChamberMaster//Event Calendar 2.0//EN
METHOD:PUBLISH
X-PUBLISHED-TTL:P3D
REFRESH-INTERVAL:P3D
CALSCALE:GREGORIAN
BEGIN:VEVENT
DTSTART:20190517T003000Z
DTEND:20190517T023000Z
X-MICROSOFT-CDO-ALLDAYEVENT:FALSE
SUMMARY:Networking Mixer - Studio 333
DESCRIPTION:Networking Opportunity open to all Chamber Members and members of the Community.\n\nSponsored by: Studio 333\n\n\n\nEnjoy a few snacks and a little wine\, while networking with other business owners\, community leaders and community members.
X-ALT-DESC;FMTTYPE=text/html:Networking Opportunity open to all Chamber Members and members of the Community.<br />\nSponsored by: Studio 333<br />\n<br />\n<span style="color: rgb(51\, 51\, 51)\; font-family: sans-serif\, Arial\, Verdana\, &quot\;Trebuchet MS&quot\;\; font-size: 13px\; background-color: rgb(255\, 255\, 255)\;">Enjoy a few snacks and a little wine\, while networking with other business owners\, community leaders and community members.</span>
LOCATION:Studio 333 333 Caledonia Street Sausalito\, CA 94965
UID:e.1780.1914
SEQUENCE:3
DTSTAMP:20260423T220936Z
URL:http://business.sausalito.org/events/details/networking-mixer-studio-333-1914
END:VEVENT

END:VCALENDAR
