BEGIN:VCALENDAR
VERSION:2.0
PRODID:-//ChamberMaster//Event Calendar 2.0//EN
METHOD:PUBLISH
X-PUBLISHED-TTL:P3D
REFRESH-INTERVAL:P3D
CALSCALE:GREGORIAN
BEGIN:VEVENT
DTSTART:20190322T003000Z
DTEND:20190322T023000Z
X-MICROSOFT-CDO-ALLDAYEVENT:FALSE
SUMMARY:Networking Mixer at Engel & Volkers Real Estate co-host The Trident
DESCRIPTION:Networking Opportunity open to all Chamber Members and members of the Community.\n\nSponsored by Engle & Volkers and The Trident
X-ALT-DESC;FMTTYPE=text/html:Networking Opportunity open to all Chamber Members and members of the Community.<br />\nSponsored by Engle &amp\; Volkers and The Trident
LOCATION:Engel & Volkers 539 Bridgeway Sausalito
UID:e.1780.1913
SEQUENCE:3
DTSTAMP:20260424T011216Z
URL:http://business.sausalito.org/events/details/networking-mixer-at-engel-volkers-real-estate-co-host-the-trident-1913
END:VEVENT

END:VCALENDAR
