BEGIN:VCALENDAR
VERSION:2.0
PRODID:-//ChamberMaster//Event Calendar 2.0//EN
METHOD:PUBLISH
X-PUBLISHED-TTL:P3D
REFRESH-INTERVAL:P3D
CALSCALE:GREGORIAN
BEGIN:VEVENT
DTSTART:20210513T160000Z
DTEND:20210513T173000Z
X-MICROSOFT-CDO-ALLDAYEVENT:FALSE
SUMMARY:Monthly Business Exchange
DESCRIPTION:Discussion regarding the proposed ideas for the Ferry Landside & Parking Lot 1.  Presenters will discuss the three options presented to the Sausalito City Council for re-design of Parking Lot 1 and the surrounding area.  Be sure to attend and see how these ideas may impact your business and community.
X-ALT-DESC;FMTTYPE=text/html:Discussion regarding the proposed ideas for the Ferry Landside &amp\; Parking Lot 1.&nbsp\; Presenters will discuss the three options presented to the Sausalito City Council for re-design of Parking Lot 1 and the surrounding area.&nbsp\; Be sure to attend and see how these ideas may impact your business and community.
LOCATION:Via Zoom - Topic: Business Exchange Meeting Time: May 13\, 2021 09:00 AM Pacific Time (US and Canada) Join Zoom Meeting https://us02web.zoom.us/j/87608796796?pwd=NGxiWUUzcHZaQlhuWForcEJlN2Jidz09 Meeting ID: 876 0879 6796 Passcode: 110439 One tap mobile +16699006833\,\,87608796796# US (San Jose) Dial by your location +1 669 900 6833 US (San Jose)
UID:e.1780.2814
SEQUENCE:3
DTSTAMP:20260422T105632Z
URL:http://business.sausalito.org/events/details/monthly-business-exchange-2814
END:VEVENT

END:VCALENDAR
