BEGIN:VCALENDAR
VERSION:2.0
PRODID:-//ChamberMaster//Event Calendar 2.0//EN
METHOD:PUBLISH
X-PUBLISHED-TTL:P3D
REFRESH-INTERVAL:P3D
CALSCALE:GREGORIAN
BEGIN:VEVENT
DTSTART:20180817T003000Z
DTEND:20180817T023000Z
X-MICROSOFT-CDO-ALLDAYEVENT:FALSE
SUMMARY:Mixer @ Hanson Gallery
DESCRIPTION:Be among the first to see this years Sausalito Art Festival Poster at this special Mixer!
X-ALT-DESC;FMTTYPE=text/html:Be among the first to see this years Sausalito Art Festival Poster at this special Mixer!
LOCATION:669 Bridgeway Sausalito\, CA 94965
UID:e.1780.1802
SEQUENCE:3
DTSTAMP:20260424T150615Z
URL:http://business.sausalito.org/events/details/mixer-hanson-gallery-1802
END:VEVENT

END:VCALENDAR
