BEGIN:VCALENDAR
VERSION:2.0
PRODID:-//ChamberMaster//Event Calendar 2.0//EN
METHOD:PUBLISH
X-PUBLISHED-TTL:P3D
REFRESH-INTERVAL:P3D
CALSCALE:GREGORIAN
BEGIN:VEVENT
DTSTART;VALUE=DATE:20190328
DTEND;VALUE=DATE:20190329
TRANSP:TRANSPARENT
X-MICROSOFT-CDO-ALLDAYEVENT:TRUE
SUMMARY:Membership 101- Chamber Benefits
DESCRIPTION:I'm a Chamber Member - Now What?  Are you taking advantage of all the FREE benefits that come with your membership?  If you are a New Member or Seasoned Member there will be something to learn at this workshop.  Learn how to increase your visibility\, bring more business to your door and learn about your community.
X-ALT-DESC;FMTTYPE=text/html:I&#39\;m a Chamber Member - Now What?&nbsp\; Are you taking advantage of all the FREE benefits that come with your membership?&nbsp\; If you are a New Member or Seasoned Member there will be something to learn at this workshop.&nbsp\; Learn how to increase your visibility\, bring more business to your door and learn about your community.
LOCATION:333 Johnson Street - Sausalito Fire Station - Community Meeting Room
UID:e.1780.1932
SEQUENCE:3
DTSTAMP:20260424T011135Z
URL:http://business.sausalito.org/events/details/membership-101-chamber-benefits-1932
END:VEVENT

END:VCALENDAR
