BEGIN:VCALENDAR
VERSION:2.0
PRODID:-//ChamberMaster//Event Calendar 2.0//EN
METHOD:PUBLISH
X-PUBLISHED-TTL:P3D
REFRESH-INTERVAL:P3D
CALSCALE:GREGORIAN
BEGIN:VEVENT
DTSTART:20181012T153000Z
DTEND:20181012T163000Z
X-MICROSOFT-CDO-ALLDAYEVENT:FALSE
SUMMARY:Measures L & M How Will They Impact Your Business?
DESCRIPTION:Measures L & M\n\nHow Will They Impact Your Business?  \n\nSpecial Meeting for Chamber Members Only!\n\n\nA special informational meeting is being held to answer your questions about the increase in TOT and Business Licenses Fees on the November ballot.\n\n \n\nCity Staff will be on hand to explain Measures\n\nL & M and how they might impact your business going forward.\n\n\nResearch L & M Facts here
X-ALT-DESC;FMTTYPE=text/html:<div align="center" style="color: rgb(10\, 116\, 219)\; font-family: Arial\, Verdana\, Helvetica\, sans-serif\; font-size: 16px\; font-style: normal\; font-variant-caps: normal\; font-weight: bold\; letter-spacing: normal\; orphans: auto\; text-indent: 0px\; text-transform: none\; white-space: normal\; widows: auto\; word-spacing: 0px\; -webkit-text-size-adjust: auto\; -webkit-text-stroke-width: 0px\; text-align: center\;"><a href="https://www.sausalito.gov/city-government/hot-topics/measures-l-m">Measures L &amp\; M</a></div>\n\n<div align="center" style="color: rgb(10\, 116\, 219)\; font-family: Arial\, Verdana\, Helvetica\, sans-serif\; font-size: 16px\; font-style: normal\; font-variant-caps: normal\; font-weight: bold\; letter-spacing: normal\; orphans: auto\; text-indent: 0px\; text-transform: none\; white-space: normal\; widows: auto\; word-spacing: 0px\; -webkit-text-size-adjust: auto\; -webkit-text-stroke-width: 0px\; text-align: center\;">How Will They Impact Your Business?&nbsp\;&nbsp\;</div>\n\n<div align="center" style="color: rgb(10\, 116\, 219)\; font-family: Arial\, Verdana\, Helvetica\, sans-serif\; font-size: 16px\; font-style: normal\; font-variant-caps: normal\; font-weight: bold\; letter-spacing: normal\; orphans: auto\; text-indent: 0px\; text-transform: none\; white-space: normal\; widows: auto\; word-spacing: 0px\; -webkit-text-size-adjust: auto\; -webkit-text-stroke-width: 0px\; text-align: center\;">Special Meeting for Chamber Members Only!\n<div style="color: rgb(2\, 2\, 2)\; font-family: Arial\, Verdana\, Helvetica\, sans-serif\; font-size: 12px\; font-style: normal\; font-variant-caps: normal\; font-weight: normal\; letter-spacing: normal\; orphans: auto\; text-align: left\; text-indent: 0px\; text-transform: none\; white-space: normal\; widows: auto\; word-spacing: 0px\; -webkit-text-size-adjust: auto\; -webkit-text-stroke-width: 0px\;"><br />\nA special informational meeting is being held to answer your questions about the increase in TOT and Business Licenses Fees on the November ballot.</div>\n\n<div style="color: rgb(2\, 2\, 2)\; font-family: Arial\, Verdana\, Helvetica\, sans-serif\; font-size: 12px\; font-style: normal\; font-variant-caps: normal\; font-weight: normal\; letter-spacing: normal\; orphans: auto\; text-align: left\; text-indent: 0px\; text-transform: none\; white-space: normal\; widows: auto\; word-spacing: 0px\; -webkit-text-size-adjust: auto\; -webkit-text-stroke-width: 0px\;">&nbsp\;</div>\n\n<div style="color: rgb(2\, 2\, 2)\; font-family: Arial\, Verdana\, Helvetica\, sans-serif\; font-size: 12px\; font-style: normal\; font-variant-caps: normal\; font-weight: normal\; letter-spacing: normal\; orphans: auto\; text-align: left\; text-indent: 0px\; text-transform: none\; white-space: normal\; widows: auto\; word-spacing: 0px\; -webkit-text-size-adjust: auto\; -webkit-text-stroke-width: 0px\;">City Staff will be on hand to explain Measures</div>\n\n<div style="color: rgb(2\, 2\, 2)\; font-family: Arial\, Verdana\, Helvetica\, sans-serif\; font-size: 12px\; font-style: normal\; font-variant-caps: normal\; font-weight: normal\; letter-spacing: normal\; orphans: auto\; text-align: left\; text-indent: 0px\; text-transform: none\; white-space: normal\; widows: auto\; word-spacing: 0px\; -webkit-text-size-adjust: auto\; -webkit-text-stroke-width: 0px\;">L &amp\; M and how they might impact your business going forward.</div>\n<br />\n<a href="https://www.sausalito.gov/city-government/hot-topics/measures-l-m">Research L &amp\; M Facts here</a></div>\n
LOCATION:City Hall 420 Litho Street Sausalito\, CA 94965
UID:e.1780.1846
SEQUENCE:3
DTSTAMP:20260424T132004Z
URL:http://business.sausalito.org/events/details/measures-l-m-how-will-they-impact-your-business-1846
END:VEVENT

END:VCALENDAR
