BEGIN:VCALENDAR
VERSION:2.0
PRODID:-//ChamberMaster//Event Calendar 2.0//EN
METHOD:PUBLISH
X-PUBLISHED-TTL:P3D
REFRESH-INTERVAL:P3D
CALSCALE:GREGORIAN
BEGIN:VEVENT
DTSTART:20181015T000000Z
DTEND:20181015T030000Z
X-MICROSOFT-CDO-ALLDAYEVENT:FALSE
SUMMARY:Masters & Mariners Music Series: Folk Cabaret!
DESCRIPTION:JOIN US for an evening of WOODEN BOATS and SULTRY FOLK MELODIES from around the world. From misty Basque mountain melodies to 1960's Greek taverna songs\, Brazilian Carnival tunes\, Sephardic lullabies\, Georgian round dances\, Hungarian love songs\, and more\, we'll carry listeners across vast oceans\; exploring the deep connections between ancient song traditions\, wayfaring\, and boat-building. FOOD and WINE & BEER by Sausalito's own PORT & PROVISIONS. Musical guests include CANTADORA SEPHARDIA\, ANGUS MARTIN\, and KRISTINE BARRETT with special guest singers from the acclaimed KITKA WOMEN'S VOCAL ENSEMBLE\, TEMPLE OF LIGHT GEORGIAN CHOIR and HEADLANDS COMMUNITY FOLK ENSEMBLE. Masters & Mariners is a new concert series held within the Spaulding Marine Center in Sausalito\, CA that brings together Maritime Arts and Traditional Music from various locales around the world. A spin on the annual Master Mariners race on the San Francisco Bay\, Masters & Mariners celebrates the connections between music and boats and their communities\; fostering relationships with the public to engage with these unique traditional art forms.
X-ALT-DESC;FMTTYPE=text/html:JOIN US for an evening of WOODEN BOATS and SULTRY FOLK MELODIES from around the world. From misty Basque mountain melodies to 1960&rsquo\;s Greek taverna songs\, Brazilian Carnival tunes\, Sephardic lullabies\, Georgian round dances\, Hungarian love songs\, and more\, we&rsquo\;ll carry listeners across vast oceans\; exploring the deep connections between ancient song traditions\, wayfaring\, and boat-building. FOOD and WINE &amp\; BEER by Sausalito&rsquo\;s own PORT &amp\; PROVISIONS. Musical guests include CANTADORA SEPHARDIA\, ANGUS MARTIN\, and KRISTINE BARRETT with special guest singers from the acclaimed KITKA WOMEN&rsquo\;S VOCAL ENSEMBLE\, TEMPLE OF LIGHT GEORGIAN CHOIR and HEADLANDS COMMUNITY FOLK ENSEMBLE. Masters &amp\; Mariners is a new concert series held within the Spaulding Marine Center in Sausalito\, CA that brings together Maritime Arts and Traditional Music from various locales around the world. A spin on the annual Master Mariners race on the San Francisco Bay\, Masters &amp\; Mariners celebrates the connections between music and boats and their communities\; fostering relationships with the public to engage with these unique traditional art forms.
LOCATION:Spaulding Marine Center 600 Gate Five Road Sausalito\, CA 94965
UID:e.1780.1838
SEQUENCE:3
DTSTAMP:20260424T111402Z
URL:http://business.sausalito.org/events/details/masters-mariners-music-series-folk-cabaret-1838
END:VEVENT

END:VCALENDAR
