BEGIN:VCALENDAR
VERSION:2.0
PRODID:-//ChamberMaster//Event Calendar 2.0//EN
METHOD:PUBLISH
X-PUBLISHED-TTL:P3D
REFRESH-INTERVAL:P3D
CALSCALE:GREGORIAN
BEGIN:VEVENT
DTSTART:20200715T160000Z
DTEND:20200715T170000Z
X-MICROSOFT-CDO-ALLDAYEVENT:FALSE
SUMMARY:Marketing During COVID 19 - Conducted by SCORE
DESCRIPTION:SCORE Mentor Steven Smith will lead a roundtable discussion on Marketing During COVID.  This discussion will give Chamber Members a chance to discuss ideas and possible partnerships.  Thinking outside the box in these challenging times.
X-ALT-DESC;FMTTYPE=text/html:SCORE Mentor Steven Smith will lead a roundtable discussion on <strong>Marketing During COVID</strong>.&nbsp\; This discussion will give Chamber Members a chance to discuss ideas and possible partnerships.&nbsp\; Thinking outside the box in these challenging times.<br />\n<br />\n&nbsp\;
LOCATION:Via Zoom - After signing-up you will receive an email with log-in information to the discussion. Space is limited to 10 participants.
UID:e.1780.2414
SEQUENCE:3
DTSTAMP:20260423T012018Z
URL:http://business.sausalito.org/events/details/marketing-during-covid-19-conducted-by-score-2414
END:VEVENT

END:VCALENDAR
