BEGIN:VCALENDAR
VERSION:2.0
PRODID:-//ChamberMaster//Event Calendar 2.0//EN
METHOD:PUBLISH
X-PUBLISHED-TTL:P3D
REFRESH-INTERVAL:P3D
CALSCALE:GREGORIAN
BEGIN:VEVENT
DTSTART;VALUE=DATE:20180804
DTEND;VALUE=DATE:20180805
TRANSP:TRANSPARENT
X-MICROSOFT-CDO-ALLDAYEVENT:TRUE
SUMMARY:Maritime Day at Galilee Harbor
DESCRIPTION:Free Entry! Celebrating our past and bright future on the Sausalito waterfront!  Marine Flea Market at 8 am Music/events are 11:00-5pm Live Music / Children's Play Historic Vessels \,Boat Rides\, Dinghy Races\, Fish & Chips\, Homemade Pies\, Beer\, Wine\, Open Boat Tours\, Boat building Demo\, S/V Alma B from SF Maritime Museum. Raffle for Gorgeous handcrafted boat! NAUTICAL FLEA MARKET  email galileeharbor@gmail.com or call 415 332 8554 to reserve a space to be a Vendor!  https://www.galileeharbor.org/events/
X-ALT-DESC;FMTTYPE=text/html:Free Entry! Celebrating our past and bright future on the Sausalito waterfront!&nbsp\; Marine Flea Market at 8 am Music/events are 11:00-5pm Live Music / Children&#39\;s Play Historic Vessels \,Boat Rides\, Dinghy Races\, Fish &amp\; Chips\, Homemade Pies\, Beer\, Wine\, Open Boat Tours\, Boat building Demo\, S/V Alma B from SF&nbsp\;Maritime&nbsp\;Museum. Raffle for Gorgeous handcrafted boat! NAUTICAL FLEA MARKET&nbsp\; email&nbsp\;galileeharbor@gmail.com&nbsp\;or call 415 332 8554 to reserve a space to be a Vendor!&nbsp\; https://www.galileeharbor.org/events/&nbsp\;
LOCATION:Galilee Harbor 300 Napa St. Sausalito\, California
UID:e.1780.1831
SEQUENCE:3
DTSTAMP:20260424T150635Z
URL:http://business.sausalito.org/events/details/maritime-day-at-galilee-harbor-1831
END:VEVENT

END:VCALENDAR
