BEGIN:VCALENDAR
VERSION:2.0
PRODID:-//ChamberMaster//Event Calendar 2.0//EN
METHOD:PUBLISH
X-PUBLISHED-TTL:P3D
REFRESH-INTERVAL:P3D
CALSCALE:GREGORIAN
BEGIN:VEVENT
DTSTART:20190928T203000Z
DTEND:20190928T213000Z
X-MICROSOFT-CDO-ALLDAYEVENT:FALSE
SUMMARY:Marinship and California’s Second Gold Rush
DESCRIPTION:During WWII\, Sausalito (including the Bay Model building) was home to a shipyard called Marinship. Join Charles Wollenberg\, history instructor at Berkeley City College and UC Berkeley for this talk and learn how the story of Marinship fits into the larger history of the "Second Gold Rush\," the extraordinary process of social and demographic change produced in the Bay Area by World War II. Over the years\, he has written several articles and books on 20th century California social history\, including Marinship at War.
X-ALT-DESC;FMTTYPE=text/html:During WWII\, Sausalito (including the Bay Model building) was home to a shipyard called Marinship. Join Charles Wollenberg\, history instructor at Berkeley City College and UC Berkeley for this talk and learn how the story of Marinship fits into the larger history of the &quot\;Second Gold Rush\,&quot\; the extraordinary process of social and demographic change produced in the Bay Area by World War II. Over the years\, he has written several articles and books on 20th century California social history\, including Marinship at War.
LOCATION:The Bay Model Visitor Center 2100 Bridgeway Sausalito\, CA 94965
UID:e.1780.2037
SEQUENCE:3
DTSTAMP:20260423T154012Z
URL:http://business.sausalito.org/events/details/marinship-and-california-s-second-gold-rush-09-28-2019-2037
END:VEVENT

END:VCALENDAR
