BEGIN:VCALENDAR
VERSION:2.0
PRODID:-//ChamberMaster//Event Calendar 2.0//EN
METHOD:PUBLISH
X-PUBLISHED-TTL:P3D
REFRESH-INTERVAL:P3D
CALSCALE:GREGORIAN
BEGIN:VEVENT
DTSTART:20181129T190000Z
DTEND:20181208T030000Z
X-MICROSOFT-CDO-ALLDAYEVENT:FALSE
SUMMARY:Marin Center Holiday Boutique
DESCRIPTION:Lorna Newlin of Sausalito Pottery is one of the Marin county artists featured at this Boutique. Great for holiday shopping\, and 25% of the sales goes back to support the Arts in Marin County.
X-ALT-DESC;FMTTYPE=text/html:Lorna Newlin of Sausalito Pottery is one of the Marin county artists featured at this Boutique. Great for holiday shopping\, and 25% of the sales goes back to support the Arts in Marin County.
LOCATION:Marin Center Exhibit Hall\, 10 Avenue of the Flags San Rafael\, CA
UID:e.1780.1900
SEQUENCE:3
DTSTAMP:20260424T090438Z
URL:http://business.sausalito.org/events/details/marin-center-holiday-boutique-1900
END:VEVENT

END:VCALENDAR
