BEGIN:VCALENDAR
VERSION:2.0
PRODID:-//ChamberMaster//Event Calendar 2.0//EN
METHOD:PUBLISH
X-PUBLISHED-TTL:P3D
REFRESH-INTERVAL:P3D
CALSCALE:GREGORIAN
BEGIN:VEVENT
DTSTART:20191108T013000Z
DTEND:20191108T033000Z
X-MICROSOFT-CDO-ALLDAYEVENT:FALSE
SUMMARY:Madrigal Winery - Living in the Universe
DESCRIPTION:Artist Reception - Living in the Universe \n\nArtist William Leidenthal
X-ALT-DESC;FMTTYPE=text/html:Artist Reception - Living in the Universe&nbsp\;<br />\nArtist William Leidenthal
LOCATION:819 Bridgeway
UID:e.1780.2194
SEQUENCE:3
DTSTAMP:20260423T124626Z
URL:http://business.sausalito.org/events/details/madrigal-winery-living-in-the-universe-2194
END:VEVENT

END:VCALENDAR
