BEGIN:VCALENDAR
VERSION:2.0
PRODID:-//ChamberMaster//Event Calendar 2.0//EN
METHOD:PUBLISH
X-PUBLISHED-TTL:P3D
REFRESH-INTERVAL:P3D
CALSCALE:GREGORIAN
BEGIN:VEVENT
DTSTART:20200731T003000Z
DTEND:20200731T020000Z
X-MICROSOFT-CDO-ALLDAYEVENT:FALSE
SUMMARY:Love Sausalito Get Together
DESCRIPTION:Join the #LoveSausalito donors and grant recipients at a Social Distancing  Cocktail Hour.  A thank you party for those who donated to the #Love Sausalito Go Fund Me.  Donors entrance to the event is FREE\, others who would like to join the party\, the entry fee will be $25 for a Love Sausalito Mask\, made by Mask Topia.  All proceeds benefit Love Sausalito Grants.
X-ALT-DESC;FMTTYPE=text/html:Join the #LoveSausalito donors and grant recipients at a Social Distancing&nbsp\; Cocktail Hour.&nbsp\; A thank you party for those who donated to the #Love Sausalito Go Fund Me.&nbsp\; Donors entrance to the event is FREE\, others who would like to join the party\, the entry fee will be $25 for a Love Sausalito Mask\, made by Mask Topia.&nbsp\; All proceeds benefit Love Sausalito Grants.
LOCATION:Caledonia Street Outdoor Dining Area. Come enjoy a cocktail and stay for dinner to support one of our Caledonia restaurants.
UID:e.1780.2415
SEQUENCE:3
DTSTAMP:20260423T011935Z
URL:http://business.sausalito.org/events/details/love-sausalito-get-together-2415
END:VEVENT

END:VCALENDAR
