BEGIN:VCALENDAR
VERSION:2.0
PRODID:-//ChamberMaster//Event Calendar 2.0//EN
METHOD:PUBLISH
X-PUBLISHED-TTL:P3D
REFRESH-INTERVAL:P3D
CALSCALE:GREGORIAN
BEGIN:VEVENT
DTSTART:20191215T020000Z
DTEND:20191215T050000Z
X-MICROSOFT-CDO-ALLDAYEVENT:FALSE
SUMMARY:Lighted Boat Parade & Fireworks
DESCRIPTION:Sausalito 32nd Annual\n\nLighted Boat Parade & Fireworks\n\nWatch Dozens of brightly lit and beautifully decorated boats parade along the scenic shoreline by the Sausalito Yacht Club and Ferry Landing.\n\n\n\nSee the Boat Parade Gallery
X-ALT-DESC;FMTTYPE=text/html:<br />\n<span style="font-size:14px\;"><span style="font-family: arial\;"><span style="color:#800080\;"><span style="font-size:16px\;"><strong>Sausalito 32nd Annual<br />\nLighted Boat Parade &amp\; Fireworks</strong></span></span><br />\n<span style="color: rgb(0\, 0\, 0)\;">Watch Dozens of brightly lit and beautifully decorated boats parade along the scenic shoreline</span> by the Sausalito Yacht Club and Ferry Landing.<br />\n<br />\n<a href="http://www.sausalito-on-the-waterfront.org/gallery-category/boatparade/">See the Boat Parade Gallery</a></span></span>
LOCATION:Free Event. Reserved seating available along Spinnaker Point with purchase. Sausalito Waterfront from Clipper Yacht Harbor thru downtown.
UID:e.1780.2024
SEQUENCE:3
DTSTAMP:20260423T110654Z
URL:http://business.sausalito.org/events/details/lighted-boat-parade-fireworks-2024
END:VEVENT

END:VCALENDAR
