BEGIN:VCALENDAR
VERSION:2.0
PRODID:-//ChamberMaster//Event Calendar 2.0//EN
METHOD:PUBLISH
X-PUBLISHED-TTL:P3D
REFRESH-INTERVAL:P3D
CALSCALE:GREGORIAN
BEGIN:VEVENT
DTSTART:20190927T020000Z
DTEND:20190927T040000Z
X-MICROSOFT-CDO-ALLDAYEVENT:FALSE
SUMMARY:Licensing Cannabis Businesses in Sausalito
DESCRIPTION:A community informational meeting to discuss licensing cannabis businesses in Sausalito.  If you have questions this is the meeting to attend.
X-ALT-DESC;FMTTYPE=text/html:A community informational meeting to discuss licensing cannabis businesses in Sausalito.&nbsp\; If you have questions this is the meeting to attend.&nbsp\;
LOCATION:420 Litho Street\, Sausalito City Hall Rec Room
UID:e.1780.2044
SEQUENCE:3
DTSTAMP:20260423T154057Z
URL:http://business.sausalito.org/events/details/licensing-cannabis-businesses-in-sausalito-2044
END:VEVENT

END:VCALENDAR
