BEGIN:VCALENDAR
VERSION:2.0
PRODID:-//ChamberMaster//Event Calendar 2.0//EN
METHOD:PUBLISH
X-PUBLISHED-TTL:P3D
REFRESH-INTERVAL:P3D
CALSCALE:GREGORIAN
BEGIN:VEVENT
DTSTART:20200307T213000Z
DTEND:20200307T223000Z
X-MICROSOFT-CDO-ALLDAYEVENT:FALSE
SUMMARY:Liberty Ships and the Lesser Known Facts
DESCRIPTION:A WWII emergency shipyard once operated here in Sausalito. Over the years Liberty Ships have become an icon of WWII. We know a lot about the shipyards\, the Liberty Ships and the people who built them but there is more to this story that has gotten lost in time. Come and join Ranger Linda to find out some of the lesser known important facts that bring this incredible story alive again. Program will include a tour of the Marinship Exhibit located inside the Bay Model Visitor Center.
X-ALT-DESC;FMTTYPE=text/html:A WWII emergency shipyard once operated here in Sausalito. Over the years Liberty Ships have become an icon of WWII. We know a lot about the shipyards\, the Liberty Ships and the people who built them but there is more to this story that has gotten lost in time. Come and join Ranger Linda to find out some of the lesser known important facts that bring this incredible story alive again. Program will include a tour of the Marinship Exhibit located inside the Bay Model Visitor Center.
LOCATION:Bay Model Visitor Center 2100 Bridgeway Sausalito\, CA 94965 415-289-3007 www.spn.usace.army.mil/Missions/Recreation/Bay-Model-Visitor-Center/
UID:e.1780.2375
SEQUENCE:3
DTSTAMP:20260423T065314Z
URL:http://business.sausalito.org/events/details/liberty-ships-and-the-lesser-known-facts-2375
END:VEVENT

END:VCALENDAR
