BEGIN:VCALENDAR
VERSION:2.0
PRODID:-//ChamberMaster//Event Calendar 2.0//EN
METHOD:PUBLISH
X-PUBLISHED-TTL:P3D
REFRESH-INTERVAL:P3D
CALSCALE:GREGORIAN
BEGIN:VEVENT
DTSTART:20180415T190000Z
DTEND:20180415T220000Z
X-MICROSOFT-CDO-ALLDAYEVENT:FALSE
SUMMARY:Lexus Grand Tasting
DESCRIPTION:The Lexus weekend culminates in spectacular fashion at the Lexus Grand Tasting\, featuring Lexus Hotel Partner chefs from around the country\, vintners from the acclaimed California wine-growing regions of Napa Valley and Marin\, and local craft breweries. This exclusive culinary adventure invites you to nibble\, nosh and sip on special offerings that showcase America's finest chefs and premier California wineries.
X-ALT-DESC;FMTTYPE=text/html:The Lexus weekend culminates in spectacular fashion at the Lexus Grand Tasting\, featuring Lexus Hotel Partner chefs from around the country\, vintners from the acclaimed California wine-growing regions of Napa Valley and Marin\, and local craft breweries. This exclusive culinary adventure invites you to nibble\, nosh and sip on special offerings that showcase America&rsquo\;s finest chefs and premier California wineries.
LOCATION:Cavallo Point Lodge
UID:e.1780.1788
SEQUENCE:3
DTSTAMP:20260424T213307Z
URL:http://business.sausalito.org/events/details/lexus-grand-tasting-1788
END:VEVENT

END:VCALENDAR
