BEGIN:VCALENDAR
VERSION:2.0
PRODID:-//ChamberMaster//Event Calendar 2.0//EN
METHOD:PUBLISH
X-PUBLISHED-TTL:P3D
REFRESH-INTERVAL:P3D
CALSCALE:GREGORIAN
BEGIN:VEVENT
DTSTART:20200330T170000Z
DTEND:20200330T180000Z
X-MICROSOFT-CDO-ALLDAYEVENT:FALSE
SUMMARY:Let's Catch Up Zoom Meeting
DESCRIPTION:It's been almost two weeks since the "Shelter in Place" went into affect. We've all had time to let the dust settle so let's check in with each other.\n\n \n\nThis is the time you can ask questions\, share ideas\, hear about a Discount Program we are developing and more. \n\n \n\nAsk SBA Loan questions & learn about a State of California Loan Program that was just developed for small businesses will be launched\, this weekend.\n\n \n\nWe are having our first Zoom Meeting on Monday 3\, 30 at 10:00 am. Just an FYI if you have a camera on your computer and you do not want to be seen make sure your camera is off.\n\n \n\nInvitation located in the Location\, follow the instructions and join the conversation.
X-ALT-DESC;FMTTYPE=text/html:<div><span style="color: rgb(0\, 0\, 0)\;">It&#39\;s been almost two weeks since the &quot\;Shelter in Place&quot\; went into affect. We&#39\;ve all had time to let the dust settle so let&#39\;s check in with each other.</span></div>\n\n<div>&nbsp\;</div>\n\n<div><span style="color: rgb(0\, 0\, 0)\;">This is the time you can ask questions\, share ideas\, hear about a Discount Program we are developing and more. </span></div>\n\n<div>&nbsp\;</div>\n\n<div><span style="color: rgb(0\, 0\, 0)\;">Ask SBA Loan questions &amp\; learn about a State of California Loan Program that was just developed for small businesses will be launched\, this weekend.</span></div>\n\n<div>&nbsp\;</div>\n\n<div><span style="color: rgb(0\, 0\, 0)\;">We are having our first Zoom Meeting on Monday 3\, 30 at 10:00 am. Just an FYI if you have a camera on your computer and you do not want to be seen make sure your camera is off.</span></div>\n\n<div>&nbsp\;</div>\n\n<div><span style="color: rgb(54\, 97\, 189)\; font-weight: bold\;">Invitation located in the Location\, follow the instructions and join the conversation.</span></div>\n
LOCATION:Join Zoom Meeting https://zoom.us/j/316140620?pwd=KytQMmxzRkJoTkJyMjJFWjk3eldqUT09 Meeting ID: 316 140 620 Password: 380450 One tap mobile +16699006833\, 316140620# US (San Jose) Meeting ID: 316 140 620 If you need to contact me email is the best way juli@sausalito.org. I am receiving between 130 - 150 emails a day so have patience I will get back to you. Also in your email please leave a phone number where I can call you back. I am Sheltering at Home so please know I will be using my personal cellphone so answer a call that begins with (831)\, I'm not a telemarketer :):)
UID:e.1780.2395
SEQUENCE:3
DTSTAMP:20260423T065246Z
URL:http://business.sausalito.org/events/details/let-s-catch-up-zoom-meeting-2395
END:VEVENT

END:VCALENDAR
