BEGIN:VCALENDAR
VERSION:2.0
PRODID:-//ChamberMaster//Event Calendar 2.0//EN
METHOD:PUBLISH
X-PUBLISHED-TTL:P3D
REFRESH-INTERVAL:P3D
CALSCALE:GREGORIAN
BEGIN:VEVENT
DTSTART:20190426T000000Z
DTEND:20190426T020000Z
X-MICROSOFT-CDO-ALLDAYEVENT:FALSE
SUMMARY:Laird Open House at Bacchus & Venus Wines
DESCRIPTION:Free Open House for Sausalito Locals to celebrate Spring before the Summertime rush. We will be serving light refreshments and Laird Family will share their premium Napa wines.
X-ALT-DESC;FMTTYPE=text/html:Free Open House for Sausalito Locals to celebrate Spring before the Summertime rush. We will be serving light refreshments and Laird Family will share their premium Napa wines.
LOCATION:Bacchus & Venus Wines 769 Bridgeway Sausalito\, CA
UID:e.1780.1963
SEQUENCE:3
DTSTAMP:20260423T235053Z
URL:http://business.sausalito.org/events/details/laird-open-house-at-bacchus-venus-wines-1963
END:VEVENT

END:VCALENDAR
