BEGIN:VCALENDAR
VERSION:2.0
PRODID:-//ChamberMaster//Event Calendar 2.0//EN
METHOD:PUBLISH
X-PUBLISHED-TTL:P3D
REFRESH-INTERVAL:P3D
CALSCALE:GREGORIAN
BEGIN:VEVENT
DTSTART:20191212T000000Z
DTEND:20191212T040000Z
X-MICROSOFT-CDO-ALLDAYEVENT:FALSE
SUMMARY:Katya's Holiday Party
DESCRIPTION:You are invited to join Katya for drinks\, appetizers\, friends and special discounts.  So make your holiday list and check it twice.
X-ALT-DESC;FMTTYPE=text/html:You are invited to join Katya for drinks\, appetizers\, friends and special discounts.&nbsp\; So make your holiday list and check it twice.&nbsp\;
LOCATION:110 G Caledonia Street
UID:e.1780.2333
SEQUENCE:3
DTSTAMP:20260423T110835Z
URL:http://business.sausalito.org/events/details/katya-s-holiday-party-2333
END:VEVENT

END:VCALENDAR
