BEGIN:VCALENDAR
VERSION:2.0
PRODID:-//ChamberMaster//Event Calendar 2.0//EN
METHOD:PUBLISH
X-PUBLISHED-TTL:P3D
REFRESH-INTERVAL:P3D
CALSCALE:GREGORIAN
BEGIN:VEVENT
DTSTART:20180729T000000Z
DTEND:20180729T030000Z
X-MICROSOFT-CDO-ALLDAYEVENT:FALSE
SUMMARY:Katya's Cabana Party!
DESCRIPTION:You are invited to Katya's Annual Cabana Party!  Come join us for some appetizers\, drinks\, live music\, and of course\, special discounts.
X-ALT-DESC;FMTTYPE=text/html:You are invited to Katya&#39\;s Annual Cabana Party! &nbsp\;Come join us for some appetizers\, drinks\, live music\, and of course\, special discounts.
LOCATION:110G Caledonia Street\, Sausalito
UID:e.1780.1829
SEQUENCE:3
DTSTAMP:20260424T162035Z
URL:http://business.sausalito.org/events/details/katya-s-cabana-party-1829
END:VEVENT

END:VCALENDAR
