BEGIN:VCALENDAR
VERSION:2.0
PRODID:-//ChamberMaster//Event Calendar 2.0//EN
METHOD:PUBLISH
X-PUBLISHED-TTL:P3D
REFRESH-INTERVAL:P3D
CALSCALE:GREGORIAN
BEGIN:VEVENT
DTSTART:20190418T020000Z
DTEND:20190418T040000Z
X-MICROSOFT-CDO-ALLDAYEVENT:FALSE
SUMMARY:Kame Richards Tides and Currents Talk
DESCRIPTION:Racers\, cruisers\, power boaters\, kayakers\, and swimmers will see and learn how the tide currents move on San Francisco Bay. $15 cash only. For information and reservations\, contact Jim Tantillo at jimtantillo@comcast.net or 707.759.2045. This usually sells out\, so don't delay!
X-ALT-DESC;FMTTYPE=text/html:Racers\, cruisers\, power boaters\, kayakers\, and swimmers will see and learn how the tide currents move on San Francisco Bay. $15 cash only. For information and reservations\, contact Jim Tantillo at jimtantillo@comcast.net or 707.759.2045. This usually sells out\, so don&#39\;t delay!
LOCATION:Bay Model Visitor Center 2100 Bridgeway Sausalito\, CA 94965 415-332-3871
UID:e.1780.1955
SEQUENCE:3
DTSTAMP:20260423T234835Z
URL:http://business.sausalito.org/events/details/kame-richards-tides-and-currents-talk-1955
END:VEVENT

END:VCALENDAR
