BEGIN:VCALENDAR
VERSION:2.0
PRODID:-//ChamberMaster//Event Calendar 2.0//EN
METHOD:PUBLISH
X-PUBLISHED-TTL:P3D
REFRESH-INTERVAL:P3D
CALSCALE:GREGORIAN
BEGIN:VEVENT
DTSTART:20191019T203000Z
DTEND:20191019T213000Z
X-MICROSOFT-CDO-ALLDAYEVENT:FALSE
SUMMARY:John Reber\, the Man with Grand Ideas
DESCRIPTION:Back in the 1940s\, John Reber would look out over the San Francisco Bay and visualize a massive civil works project of dams and locks to harvest fresh drinking water\, and barriers that would support railway systems and a highway. His intention was to improve the quality of life for Bay Area business and residential communities. The Bay Model was constructed by the USACE to test the Reber Plan. What were the results? Find out more by joining Ranger Linda for a stroll around the bay (model).
X-ALT-DESC;FMTTYPE=text/html:Back in the 1940s\, John Reber would look out over the San Francisco Bay and visualize a massive civil works project of dams and locks to harvest fresh drinking water\, and barriers that would support railway systems and a highway. His intention was to improve the quality of life for Bay Area business and residential communities. The Bay Model was constructed by the USACE to test the Reber Plan. What were the results? Find out more by joining Ranger Linda for a stroll around the bay (model).
LOCATION:The Bay Model Visitor Center 2100 Bridgeway Sausalito\, CA 94965 415.289.3007 http://www.spn.usace.army.mil/Missions/Recreation/Bay-Model-Visitor-Center/
UID:e.1780.2038
SEQUENCE:3
DTSTAMP:20260423T143708Z
URL:http://business.sausalito.org/events/details/john-reber-the-man-with-grand-ideas-2038
END:VEVENT

END:VCALENDAR
