BEGIN:VCALENDAR
VERSION:2.0
PRODID:-//ChamberMaster//Event Calendar 2.0//EN
METHOD:PUBLISH
X-PUBLISHED-TTL:P3D
REFRESH-INTERVAL:P3D
CALSCALE:GREGORIAN
BEGIN:VEVENT
DTSTART:20191215T163000Z
DTEND:20191215T200000Z
X-MICROSOFT-CDO-ALLDAYEVENT:FALSE
SUMMARY:Jingle Bell 5K Run & Pancake Breakfast
DESCRIPTION:Same-Day Registration will be available starting 7:30 am\, Sunday\, December 9th near the start line adjacent to Gabrielson Park\, Sausalito. \nThe race\, which benefits the Dipsea Race Foundation's Dipsea Kidz program and Sausalito on the Waterfront's Child Education and Activity Fund program\, starts at 8:30 a.m. on Spinnaker Drive with the 5K race followed at approximately 9:15 a.m. by the Children's Fun Run and a pancake brunch in the Spinnaker Restaurant hosted by the Sausalito Lions Club.\n\nThe entry fee is $40 for adults and $25 for children 15 & under and includes a race T-shirt and admission to the post-race breakfast/brunch. All participants in the Children's Fun Run will receive a medal.\n\n\n\n\n\n\n\n\n\nThe entry deadline is December 1.\n\n\n\n\n\n\n\n\n\nThe race caps Sausalito's Winterfest weekend celebration that features the 32nd Annual Lighted Boat Parade and Fireworks Show on Saturday\, December\, at 6 p.m.
X-ALT-DESC;FMTTYPE=text/html:Same-Day Registration will be available starting 7:30 am\, Sunday\, December 9th near the start line adjacent to Gabrielson Park\, Sausalito.&nbsp\;\n<p class="ydpee79bfbcmsonormal"><span>The race\, which benefits the Dipsea Race Foundation&rsquo\;s Dipsea Kidz program and Sausalito on the Waterfront&rsquo\;s Child Education and Activity Fund program\, starts at 8:30 a.m. on Spinnaker Drive with the 5K race followed at approximately 9:15 a.m. by the Children&rsquo\;s Fun Run and a pancake brunch in the Spinnaker Restaurant hosted by the Sausalito Lions Club.</span></p>\n\n<p class="ydpee79bfbcmsonormal"><span>The entry fee is $40 for adults and $25 for children 15 &amp\; under and includes a race T-shirt and admission to the post-race breakfast/brunch. All participants in the Children&rsquo\;s Fun Run will receive a medal.</span></p>\n\n<div>\n<div class="WordSection1">\n<div>\n<div>\n<div>\n<div>\n<div>\n<div>\n<p class="ydpee79bfbcmsonormal"><strong><span>The entry deadline is December 1.</span></strong></p>\n</div>\n</div>\n</div>\n</div>\n</div>\n</div>\n</div>\n</div>\n\n<p class="ydpee79bfbcmsonormal"><span>The race caps Sausalito&rsquo\;s Winterfest weekend celebration that features the 32<sup>nd</sup> Annual Lighted Boat Parade and Fireworks Show on Saturday\, December\, at 6 p.m.</span></p>\n
LOCATION:Spinnaker Point (Restaurant) 100 Spinnaker Drive Sausalito\, CA 94965
UID:e.1780.2025
SEQUENCE:3
DTSTAMP:20260423T110747Z
URL:http://business.sausalito.org/events/details/jingle-bell-5k-run-pancake-breakfast-2025
END:VEVENT

END:VCALENDAR
