BEGIN:VCALENDAR
VERSION:2.0
PRODID:-//ChamberMaster//Event Calendar 2.0//EN
METHOD:PUBLISH
X-PUBLISHED-TTL:P3D
REFRESH-INTERVAL:P3D
CALSCALE:GREGORIAN
BEGIN:VEVENT
DTSTART:20181210T043000Z
DTEND:20181209T200000Z
X-MICROSOFT-CDO-ALLDAYEVENT:FALSE
SUMMARY:Jingle Bell 5K Run & Pancake Breakfast
DESCRIPTION:Same-Day Registration will be available starting 7:30 am\, Sunday\, December 9th near the start line adjacent to Gabrielson Park\, Sausalito.  Thank you and see you there!
X-ALT-DESC;FMTTYPE=text/html:Same-Day Registration will be available starting 7:30 am\, Sunday\, December 9th near the start line adjacent to Gabrielson Park\, Sausalito.&nbsp\; Thank you and see you there!
LOCATION:Spinnaker Point (Restaurant) 100 Spinnaker Drive Sausalito\, CA 94965
UID:e.1780.1865
SEQUENCE:3
DTSTAMP:20260424T070555Z
URL:http://business.sausalito.org/events/details/jingle-bell-5k-run-pancake-breakfast-1865
END:VEVENT

END:VCALENDAR
