BEGIN:VCALENDAR
VERSION:2.0
PRODID:-//ChamberMaster//Event Calendar 2.0//EN
METHOD:PUBLISH
X-PUBLISHED-TTL:P3D
REFRESH-INTERVAL:P3D
CALSCALE:GREGORIAN
BEGIN:VEVENT
DTSTART:20190121T170000Z
DTEND:20190122T020000Z
X-MICROSOFT-CDO-ALLDAYEVENT:FALSE
SUMMARY:Jazz & Blues by the Bay - Platinum Sponsorship Available
DESCRIPTION:A Jazz and Blues by the Bay sponsorship is a great way to connect with the community and showcase your business. Below are the sponsorship benefits. All sponsorships go on sale on the date indicated at 9:00 a.m. at the Parks and Recreation Office at City Hall on a first come first served basis. 415-289-4152 Check out www.jazzandbluesbythebay.com for sponsorship benefits.
X-ALT-DESC;FMTTYPE=text/html:A Jazz and Blues by the Bay sponsorship is a great way to connect with the community and showcase your business. Below are the sponsorship benefits. All sponsorships go on sale on the date indicated at 9:00 a.m. at the Parks and Recreation Office at City Hall on a first come first served basis. 415-289-4152 Check out www.jazzandbluesbythebay.com for sponsorship benefits.
LOCATION:
UID:e.1780.1858
SEQUENCE:3
DTSTAMP:20260424T051315Z
URL:http://business.sausalito.org/events/details/jazz-blues-by-the-bay-platinum-sponsorship-available-1858
END:VEVENT

END:VCALENDAR
