BEGIN:VCALENDAR
VERSION:2.0
PRODID:-//ChamberMaster//Event Calendar 2.0//EN
METHOD:PUBLISH
X-PUBLISHED-TTL:P3D
REFRESH-INTERVAL:P3D
CALSCALE:GREGORIAN
BEGIN:VEVENT
DTSTART:20190608T013000Z
DTEND:20190608T030000Z
X-MICROSOFT-CDO-ALLDAYEVENT:FALSE
SUMMARY:Jazz & Blues by the Bay
DESCRIPTION:Jazz and Blues by the Bay is back! This summertime concert series is famous for great music\, stunning views and is a great time to spend with family and friends. Concerts are every Friday\, May 31st to August 23rd\, from 6:30pm   8:00pm at Gabrielson Park in Downtown Sausalito. Reserved table seating is available and there is free lawn seating as well. Please call the Sausalito Parks and Recreation Department at 415-289-4152 or go to the website www.jazzandbluesbythebay.com for more information. This Friday's band is Dennis Johnson & the Mississippi Ramblers (blues) https://www.dennisjohnsonslide.com/ Sponsored by the Southern Marin Firefighters Association
X-ALT-DESC;FMTTYPE=text/html:Jazz and Blues by the Bay is back! This summertime concert series is famous for great music\, stunning views and is a great time to spend with family and friends. Concerts are every Friday\, May 31st to August 23rd\, from 6:30pm &ndash\; 8:00pm at Gabrielson Park in Downtown Sausalito. Reserved table seating is available and there is free lawn seating as well. Please call the Sausalito Parks and Recreation Department at 415-289-4152 or go to the website www.jazzandbluesbythebay.com for more information. This Friday&#39\;s band is Dennis Johnson &amp\; the Mississippi Ramblers (blues) https://www.dennisjohnsonslide.com/ Sponsored by the Southern Marin Firefighters Association
LOCATION:Gabrielson Park Sausalito
UID:e.1780.1926
SEQUENCE:3
DTSTAMP:20260423T203700Z
URL:http://business.sausalito.org/events/details/jazz-blues-by-the-bay-06-07-2019-1926
END:VEVENT

END:VCALENDAR
