BEGIN:VCALENDAR
VERSION:2.0
PRODID:-//ChamberMaster//Event Calendar 2.0//EN
METHOD:PUBLISH
X-PUBLISHED-TTL:P3D
REFRESH-INTERVAL:P3D
CALSCALE:GREGORIAN
BEGIN:VEVENT
DTSTART:20180804T013000Z
DTEND:20180804T030000Z
X-MICROSOFT-CDO-ALLDAYEVENT:FALSE
SUMMARY:Jazz and Blues by the Bay 2018
DESCRIPTION:Jazz and Blues by the Bay\n\nEvery Friday\, June 1 to August 24\, 2018\nMore information here
X-ALT-DESC;FMTTYPE=text/html:<h2><span style="font-size:16px\;">Jazz and Blues by the Bay<br />\nEvery Friday\, June 1 to August 24\, 2018</span></h2>\n<span style="font-size:16px\;"><a href="http://www.sausalito.gov/departments/parks-and-recreation/events/jazz-and-blues-by-the-bay">More information here</a></span>
LOCATION:Gabrielson Park\, Sausalito
UID:e.1780.1820
SEQUENCE:3
DTSTAMP:20260424T151013Z
URL:http://business.sausalito.org/events/details/jazz-and-blues-by-the-bay-2018-1820
END:VEVENT

END:VCALENDAR
