BEGIN:VCALENDAR
VERSION:2.0
PRODID:-//ChamberMaster//Event Calendar 2.0//EN
METHOD:PUBLISH
X-PUBLISHED-TTL:P3D
REFRESH-INTERVAL:P3D
CALSCALE:GREGORIAN
BEGIN:VEVENT
DTSTART:20190503T003000Z
DTEND:20190503T020000Z
X-MICROSOFT-CDO-ALLDAYEVENT:FALSE
SUMMARY:It's A Surprise You Don't Want to Miss
DESCRIPTION:Hint:  There will be a PASSWORD\n\nLocation:  Will be Announced\n\nCost: $10\n\nThere will be tapas \n\nYou will receive a beverage
X-ALT-DESC;FMTTYPE=text/html:Hint:&nbsp\; There will be a PASSWORD<br />\nLocation:&nbsp\; Will be Announced<br />\nCost: $10<br />\nThere will be tapas&nbsp\;<br />\nYou will receive a beverage
LOCATION:It is a SECRET - and will be announced on April 29th.
UID:e.1780.1946
SEQUENCE:3
DTSTAMP:20260423T221440Z
URL:http://business.sausalito.org/events/details/it-s-a-surprise-you-don-t-want-to-miss-1946
END:VEVENT

END:VCALENDAR
