BEGIN:VCALENDAR
VERSION:2.0
PRODID:-//ChamberMaster//Event Calendar 2.0//EN
METHOD:PUBLISH
X-PUBLISHED-TTL:P3D
REFRESH-INTERVAL:P3D
CALSCALE:GREGORIAN
BEGIN:VEVENT
DTSTART:20190720T190000Z
DTEND:20190721T000000Z
X-MICROSOFT-CDO-ALLDAYEVENT:FALSE
SUMMARY:ICB Summer Artists at Work
DESCRIPTION:Join us for our Summer\n\nARTISTS AT WORK!\n\n\n\nWe are opening our studios and inviting the public to come see ARTISTS AT WORK!  This is a unique opportunity to witness an artist's process and have a behind the scenes look at how art is created. The ICB building in Sausalito is home to over 140 artists who work in various mediums including painting\, photography\, sculpture\, jewelry\, weaving\, basketry\, new media\, fiber art and more.\n\nIt is going to be a fun afternoon. All art enthusiasts and collector welcome!\n\n \n\nFree event + free parking
X-ALT-DESC;FMTTYPE=text/html:<div dir="auto">\n<p>Join us for our Summer</p>\n\n<p>ARTISTS AT WORK!</p>\n\n<p><br />\nWe are opening our studios and inviting the public to come see ARTISTS AT WORK!&nbsp\; This is a unique opportunity to witness an artist&#39\;s process and have a behind the scenes look at how art is created. The ICB building in Sausalito is home to over 140 artists who work in various mediums including painting\, photography\, sculpture\, jewelry\, weaving\, basketry\, new media\, fiber art and more.</p>\n\n<p>It is going to be a fun afternoon. All art enthusiasts and collector welcome!</p>\n\n<p>&nbsp\;</p>\n\n<p>Free event + free parking</p>\n</div>\n
LOCATION:ICB Building 480 Gate Five Road Sausalito\, CA 94965
UID:e.1780.2015
SEQUENCE:3
DTSTAMP:20260423T184344Z
URL:http://business.sausalito.org/events/details/icb-summer-artists-at-work-2015
END:VEVENT

END:VCALENDAR
