BEGIN:VCALENDAR
VERSION:2.0
PRODID:-//ChamberMaster//Event Calendar 2.0//EN
METHOD:PUBLISH
X-PUBLISHED-TTL:P3D
REFRESH-INTERVAL:P3D
CALSCALE:GREGORIAN
BEGIN:VEVENT
DTSTART:20181130T190000Z
DTEND:20181203T020000Z
X-MICROSOFT-CDO-ALLDAYEVENT:FALSE
SUMMARY:ICB Holiday Open Studios
DESCRIPTION:Nov 30 | 11am-6pm\n\nNov 30 - ARTIST PARTY...you're invited! | 6pm-9pm\n\nDec 1 | 11am-6pm\n\nDec 2 | 11am-6pm\n\n\n\nWinter Open Studios (WOS) has been a tradition since 1968 and we hope you will join us this year!\n\nPlease join us for the 50th anniversary of WINTER OPENS STUDIOS (WOS) - one of the nation's most creative art-work spaces and artist collectives located at the Industrial Center Building (ICB) in Sausalito.The historic ICB is home to over 100 artists creating fine art in various mediums including photography\, film\, fiber\, painting\, printmaking\, animation\, jewelry\, drawing\, sculpture\, new media and more. This year over 90 artists will participate\, and we invite you into our studios to learn more about our art and our process.
X-ALT-DESC;FMTTYPE=text/html:Nov 30 | 11am-6pm<br />\nNov 30 - ARTIST PARTY...you&#39\;re invited! | 6pm-9pm<br />\nDec 1 | 11am-6pm<br />\nDec 2 | 11am-6pm<br />\n<br />\n<strong>Winter Open Studios (WOS) has been a tradition since 1968 and we hope you will join us this year!</strong><br />\nPlease join us for the 50th anniversary of WINTER OPENS STUDIOS (WOS) - one of the nation&rsquo\;s most creative art-work spaces and artist collectives located at the Industrial Center Building (ICB) in Sausalito.The historic ICB is home to over 100 artists creating fine art in various mediums including photography\, film\, fiber\, painting\, printmaking\, animation\, jewelry\, drawing\, sculpture\, new media and more. This year over 90 artists will participate\, and we invite you into our studios to learn more about our art and our process.<br />\n<br />\n&nbsp\;
LOCATION:480 Gate Five Road The ICB is located in Sausalito's picturesque Marinship District at 480 Gate Five Road. Our event is free to the public\, has free parking and is ADA accessible (on the bay side).
UID:e.1780.1862
SEQUENCE:3
DTSTAMP:20260424T085336Z
URL:http://business.sausalito.org/events/details/icb-holiday-open-studios-1862
END:VEVENT

END:VCALENDAR
