BEGIN:VCALENDAR
VERSION:2.0
PRODID:-//ChamberMaster//Event Calendar 2.0//EN
METHOD:PUBLISH
X-PUBLISHED-TTL:P3D
REFRESH-INTERVAL:P3D
CALSCALE:GREGORIAN
BEGIN:VEVENT
DTSTART:20191218T013000Z
DTEND:20191218T033000Z
X-MICROSOFT-CDO-ALLDAYEVENT:FALSE
SUMMARY:Holiday Mixer @ Events Ondine & The Trident
DESCRIPTION:Holiday Chamber Mixer - In partnership with Sausalito Equator Coffee we will be collecting NEW warm coats for the Holiday Coat Drive.
X-ALT-DESC;FMTTYPE=text/html:Holiday Chamber Mixer - In partnership with Sausalito Equator Coffee we will be collecting NEW warm coats for the Holiday Coat Drive.&nbsp\;
LOCATION:Events Ondine at The Trident 558 Bridgeway\, Sausalito Today's Trident Still Groovy After All These Years But times change\, and in 1980 The Trident closed its doors and became the popular Horizons restaurant. Now we've come full circle once again to The Trident\, where you can enjoy the original decor from the 1960s\, including the famous wall (and ceiling) art and rich\, warm woodwork featuring voluptuously flowing curves. And following its original philosophy\, The Trident offers satisfying and sophisticated fare showcasing local\, organic and sustainably produced ingredients. More About The Trident
UID:e.1780.2031
SEQUENCE:3
DTSTAMP:20260423T111042Z
URL:http://business.sausalito.org/events/details/holiday-mixer-events-ondine-the-trident-2031
END:VEVENT

END:VCALENDAR
