BEGIN:VCALENDAR
VERSION:2.0
PRODID:-//ChamberMaster//Event Calendar 2.0//EN
METHOD:PUBLISH
X-PUBLISHED-TTL:P3D
REFRESH-INTERVAL:P3D
CALSCALE:GREGORIAN
BEGIN:VEVENT
DTSTART:20181221T013000Z
DTEND:20181221T033000Z
X-MICROSOFT-CDO-ALLDAYEVENT:FALSE
SUMMARY:Holiday Mixer at the Bay Model
DESCRIPTION:BAY CITIES REFUSE SERVICE\n\nInvites you to the\n\nSausalito Chamber of Commerce\n\n2018 Holiday Open House\n\nfor the Community\n\nat the Bay Model Visitor Center\n\nThursday\, December 20th\n\n5:30-7:30 pm\n\nPlease Join Us and\n\n"Pay it Forward"\n\nThis is a benefit party for victims of the Camp Fire\n\nMEMBERS & GUESTS: FREE\n\nPlease make a cash donation at the door and the bar\n\nEnjoy: Raffle   Enjoy Holiday Carols   Holiday Photo Booth & Buttons   A visit from Santa Claus!\n\n\n\nBring your friends & family
X-ALT-DESC;FMTTYPE=text/html:BAY CITIES REFUSE SERVICE<br />\nInvites you to the<br />\nSausalito Chamber of Commerce<br />\n2018 Holiday Open House<br />\nfor the Community<br />\nat the Bay Model Visitor Center<br />\nThursday\, December 20th<br />\n5:30-7:30 pm<br />\nPlease Join Us and<br />\n&ldquo\;Pay it Forward&rdquo\;<br />\nThis is a benefit party for victims of the Camp Fire<br />\nMEMBERS &amp\; GUESTS: FREE<br />\nPlease make a cash donation at the door and the bar<br />\nEnjoy: Raffle &bull\; Enjoy Holiday Carols &bull\; Holiday Photo Booth &amp\; Buttons &bull\; A visit from Santa Claus!<br />\n<br />\nBring your friends &amp\; family
LOCATION:2100 Bridgeway Sausalito\, CA 94965 Plenty of Parking!
UID:e.1780.1897
SEQUENCE:3
DTSTAMP:20260424T090127Z
URL:http://business.sausalito.org/events/details/holiday-mixer-at-the-bay-model-1897
END:VEVENT

END:VCALENDAR
