BEGIN:VCALENDAR
VERSION:2.0
PRODID:-//ChamberMaster//Event Calendar 2.0//EN
METHOD:PUBLISH
X-PUBLISHED-TTL:P3D
REFRESH-INTERVAL:P3D
CALSCALE:GREGORIAN
BEGIN:VEVENT
DTSTART:20200215T190000Z
DTEND:20200215T200000Z
X-MICROSOFT-CDO-ALLDAYEVENT:FALSE
SUMMARY:Hiro's Hats - Sausalito Books by the Bay
DESCRIPTION:Elisa Kleven - Hiro's Hats\n\nLive Drawing Demonstration & Collage Crafts for Kids
X-ALT-DESC;FMTTYPE=text/html:Elisa Kleven - Hiro&#39\;s Hats<br />\nLive Drawing Demonstration &amp\; Collage Crafts for Kids
LOCATION:Sausalito Books by the Bay - 100 Bay St
UID:e.1780.2372
SEQUENCE:3
DTSTAMP:20260423T095110Z
URL:http://business.sausalito.org/events/details/hiro-s-hats-sausalito-books-by-the-bay-2372
END:VEVENT

END:VCALENDAR
