BEGIN:VCALENDAR
VERSION:2.0
PRODID:-//ChamberMaster//Event Calendar 2.0//EN
METHOD:PUBLISH
X-PUBLISHED-TTL:P3D
REFRESH-INTERVAL:P3D
CALSCALE:GREGORIAN
BEGIN:VEVENT
DTSTART:20210128T020000Z
DTEND:20210128T040000Z
X-MICROSOFT-CDO-ALLDAYEVENT:FALSE
SUMMARY:Herring Festival Live Virtual 2021
DESCRIPTION:Let's have some fun while supporting local. A Sausalito tradition will be held via Zoom this year so you can enjoy it with your entire family. The Herring Festival will go on!
X-ALT-DESC;FMTTYPE=text/html:<span style="color: rgb(5\, 5\, 5)\; font-family: &quot\;Segoe UI Historic&quot\;\, &quot\;Segoe UI&quot\;\, Helvetica\, Arial\, sans-serif\; font-size: 15px\; white-space: pre-wrap\; background-color: rgb(255\, 255\, 255)\;">Let&#39\;s have some fun while supporting local. A Sausalito tradition will be held via Zoom this year so you can enjoy it with your entire family. The Herring Festival will go on!</span>
LOCATION:Via Zoom Registration & Purchase Tickets: https://scbc.betterworld.org/events/herring-festival#tickets Once you have purchased your tickets a Zoom link will be provided. Sponsorship Opportunities are also available.
UID:e.1780.2807
SEQUENCE:3
DTSTAMP:20260422T160719Z
URL:http://business.sausalito.org/events/details/herring-festival-live-virtual-2021-2807
END:VEVENT

END:VCALENDAR
