BEGIN:VCALENDAR
VERSION:2.0
PRODID:-//ChamberMaster//Event Calendar 2.0//EN
METHOD:PUBLISH
X-PUBLISHED-TTL:P3D
REFRESH-INTERVAL:P3D
CALSCALE:GREGORIAN
BEGIN:VEVENT
DTSTART:20190110T190000Z
DTEND:20190110T220000Z
X-MICROSOFT-CDO-ALLDAYEVENT:FALSE
SUMMARY:Heart of Marin Awards
DESCRIPTION:Center for Volunteer & Nonprofit Leadership (CVNL) honors local leaders and their causes at the Annual Heart of Marin Awards. In its 26th year\, CVNL will give $35\,000 to outstanding nonprofits & the committed individuals who serve them. Submit nominations online at cvnl.org/2018heartofmarin Nominations due by November 2\, 2018 at 5:00p.m. SAVE THE DATE: January 10\, 2019 Join us as we recognize and celebrate all of this year's nominees. The Awards Luncheon takes place at the Marin Center Exhibit Hall from 11:00a.m. to 2:00p.m. QUESTIONS? Call 415.448.0322
X-ALT-DESC;FMTTYPE=text/html:Center for Volunteer &amp\; Nonprofit Leadership (CVNL) honors local leaders and their causes at the Annual Heart of Marin Awards. In its 26th year\, CVNL will give $35\,000 to outstanding nonprofits &amp\; the committed individuals who serve them. Submit nominations online at cvnl.org/2018heartofmarin Nominations due by November 2\, 2018 at 5:00p.m. SAVE THE DATE: January 10\, 2019 Join us as we recognize and celebrate all of this year&rsquo\;s nominees. The Awards Luncheon takes place at the Marin Center Exhibit Hall from 11:00a.m. to 2:00p.m. QUESTIONS? Call 415.448.0322
LOCATION:Marin Center Exhibit Hall
UID:e.1780.1839
SEQUENCE:3
DTSTAMP:20260424T051418Z
URL:http://business.sausalito.org/events/details/heart-of-marin-awards-1839
END:VEVENT

END:VCALENDAR
