BEGIN:VCALENDAR
VERSION:2.0
PRODID:-//ChamberMaster//Event Calendar 2.0//EN
METHOD:PUBLISH
X-PUBLISHED-TTL:P3D
REFRESH-INTERVAL:P3D
CALSCALE:GREGORIAN
BEGIN:VEVENT
DTSTART:20180427T000000Z
DTEND:20180427T030000Z
X-MICROSOFT-CDO-ALLDAYEVENT:FALSE
SUMMARY:Harmonia’s Friends & Family Happy Hour
DESCRIPTION:All are welcome to enjoy drinks\, live music\, and tapas at Harmonia's Friends & Family Happy Hour on April 26th from 5-8 PM. Harmonia is Marin County's Work + Play Collective\, located in the legendary Record Plant in Sausalito\, where artists like Fleetwood Mac\, Bob Marley\, Dave Matthews\, Metallica and Carlos Santana made some of the most influential albums of the past four decades! 20% discounts on Harmonia memberships are available at the event.
X-ALT-DESC;FMTTYPE=text/html:All are welcome to enjoy drinks\, live music\, and tapas at Harmonia&#39\;s Friends &amp\; Family Happy Hour on April 26th from 5-8 PM. Harmonia is Marin County&rsquo\;s Work + Play Collective\, located in the legendary Record Plant in Sausalito\, where artists like Fleetwood Mac\, Bob Marley\, Dave Matthews\, Metallica and Carlos Santana made some of the most influential albums of the past four decades! 20% discounts on Harmonia memberships are available at the event.
LOCATION:Harmonia - 2200 Marinship Way\, Sausalito\, CA 94965
UID:e.1780.1794
SEQUENCE:3
DTSTAMP:20260424T233029Z
URL:http://business.sausalito.org/events/details/harmonia-s-friends-family-happy-hour-1794
END:VEVENT

END:VCALENDAR
