BEGIN:VCALENDAR
VERSION:2.0
PRODID:-//ChamberMaster//Event Calendar 2.0//EN
METHOD:PUBLISH
X-PUBLISHED-TTL:P3D
REFRESH-INTERVAL:P3D
CALSCALE:GREGORIAN
BEGIN:VEVENT
DTSTART:20180429T023000Z
DTEND:20180429T065500Z
X-MICROSOFT-CDO-ALLDAYEVENT:FALSE
SUMMARY:Harmonia Productions Presents Chloe Jean
DESCRIPTION:Harmonia Productions Presents an intimate evening of music featuring artist and FORD model Chloe Jean\, on Saturday\, April 28th. Chloe's vocal and lyrical stylings have been compared to Nina Simone\, Lauryn Hill\, Joss Stone\, and Adele. Harmonia is Marin County's Work + Play Collective\, located in the legendary Record Plant in Sausalito\, where artists like Fleetwood Mac\, Bob Marley\, Dave Matthews\, Metallica and Carlos Santana made some of the most influential albums of the past four decades! Doors and bar open at 7:30pm\, and Chloe Jean will perform two sets between 8:30 - 11pm. The event is 21+ and tickets are $25. Tickets can be purchased at the door or by calling 415-332-1432.
X-ALT-DESC;FMTTYPE=text/html:Harmonia Productions Presents an intimate evening of music featuring artist and FORD model Chloe Jean\, on Saturday\, April 28th. Chloe&rsquo\;s vocal and lyrical stylings have been compared to Nina Simone\, Lauryn Hill\, Joss Stone\, and Adele. Harmonia is Marin County&rsquo\;s Work + Play Collective\, located in the legendary Record Plant in Sausalito\, where artists like Fleetwood Mac\, Bob Marley\, Dave Matthews\, Metallica and Carlos Santana made some of the most influential albums of the past four decades! Doors and bar open at 7:30pm\, and Chloe Jean will perform two sets between 8:30 - 11pm. The event is 21+ and tickets are $25. Tickets can be purchased at the door or by calling 415-332-1432.
LOCATION:Harmonia - 2200 Marinship Way\, Sausalito\, CA 94965
UID:e.1780.1795
SEQUENCE:3
DTSTAMP:20260424T213606Z
URL:http://business.sausalito.org/events/details/harmonia-productions-presents-chloe-jean-1795
END:VEVENT

END:VCALENDAR
