BEGIN:VCALENDAR
VERSION:2.0
PRODID:-//ChamberMaster//Event Calendar 2.0//EN
METHOD:PUBLISH
X-PUBLISHED-TTL:P3D
REFRESH-INTERVAL:P3D
CALSCALE:GREGORIAN
BEGIN:VEVENT
DTSTART:20190816T003000Z
DTEND:20190816T023000Z
X-MICROSOFT-CDO-ALLDAYEVENT:FALSE
SUMMARY:Hanson's Gallery & Vodka Bar - Chamber Mixer
DESCRIPTION:Chamber & Sausalito Art Festival Mixer.  The 2019 Art Festival poster will be unveiled!   \n\nSpecial Vodka Drinks will be served
X-ALT-DESC;FMTTYPE=text/html:Chamber &amp\; Sausalito Art Festival Mixer.&nbsp\; The 2019 Art Festival poster will be unveiled! &nbsp\;&nbsp\;<br />\nSpecial Vodka Drinks will be served &nbsp\;&nbsp\;&nbsp\;
LOCATION:Hanson Fine Art Gallery & Vodka Bar - located at 669 Bridgeway\, in the heart of downtown Sausalito.
UID:e.1780.1982
SEQUENCE:3
DTSTAMP:20260423T171053Z
URL:http://business.sausalito.org/events/details/hanson-s-gallery-vodka-bar-chamber-mixer-1982
END:VEVENT

END:VCALENDAR
