BEGIN:VCALENDAR
VERSION:2.0
PRODID:-//ChamberMaster//Event Calendar 2.0//EN
METHOD:PUBLISH
X-PUBLISHED-TTL:P3D
REFRESH-INTERVAL:P3D
CALSCALE:GREGORIAN
BEGIN:VEVENT
DTSTART:20191031T231500Z
DTEND:20191101T013000Z
X-MICROSOFT-CDO-ALLDAYEVENT:FALSE
SUMMARY:Halloween Sausalito - Caledonia Street
DESCRIPTION:4:15 - 5:15 Haunted House\n\n6:00 - Parade on Caledonia Street\n\n6:15 Trick or Treat Lane\n\n6:30 Dog Costume Contest\n\nFor More information click below link\n\nhttps://www.sausalito.gov/departments/parks-and-recreation/events/halloween-sausalito
X-ALT-DESC;FMTTYPE=text/html:4:15 - 5:15 Haunted House<br />\n6:00 - Parade on Caledonia Street<br />\n6:15 Trick or Treat Lane<br />\n6:30 Dog Costume Contest<br />\nFor More information click below link<br />\n<a href="https://www.sausalito.gov/departments/parks-and-recreation/events/halloween-sausalito">https://www.sausalito.gov/departments/parks-and-recreation/events/halloween-sausalito</a>
LOCATION:Caledonia Street
UID:e.1780.2183
SEQUENCE:3
DTSTAMP:20260423T143836Z
URL:http://business.sausalito.org/events/details/halloween-sausalito-caledonia-street-2183
END:VEVENT

END:VCALENDAR
