BEGIN:VCALENDAR
VERSION:2.0
PRODID:-//ChamberMaster//Event Calendar 2.0//EN
METHOD:PUBLISH
X-PUBLISHED-TTL:P3D
REFRESH-INTERVAL:P3D
CALSCALE:GREGORIAN
BEGIN:VEVENT
DTSTART:20211101T004500Z
DTEND:20211101T023000Z
X-MICROSOFT-CDO-ALLDAYEVENT:FALSE
SUMMARY:Halloween on Caledonia Street
DESCRIPTION:Schedule of Events:\nHalloween Parade and Trick or Treat Lane\n\n\n	The Parade starts at 6:00 p.m. sharp\n	Line up for the Parade at 5:45 p.m. at the Station 1 Firehouse  (corner of Johnson & Caledonia streets) \n	The Halloween Parade finishes at Trick or Treat Lane located at the Robin Sweeny Park Basketball Courts\n\n\n \n\n\nHowl'O'Ween Dog Costume Contest\n\n\n\n	6:30 p.m.\n	Robin Sweeny Park\n	Dress up your pups and bring them with you on Halloween to compete \n	Contest is FREE!\n	Prizes will be awarded to the best Little Dog (under 35 lbs.) in costume\, best Big Dog (over 35 lbs.) in costume and best couple (human and dog).     \n	Sponsored by Soulmates Animal Care\n\n\n \n\nQuestions\n\n\n	Any questions about Halloween Sausalito may be directed to the City of Sausalito Recreation Department at (415) 289-4198 or jmyers@sausalito.gov\n	The offices of the Parks & Recreation Department are located at Sausalito City Hall\, 420 Litho Street\, Sausalito\, CA\, 94965\n\n\nThe Halloween Parade and activities in Robin Sweeny Park and the Recreation Center are sponsored by Sausalito Parks & Recreation\, Caledonia Street Merchants\, and local community groups. Event Producers: Julie Myers\, Bryan Vitale and Mike Langford.
X-ALT-DESC;FMTTYPE=text/html:<span style="font-size:16px\;"><strong>Schedule of Events:</strong></span>\n<h3><span style="color:#FF8C00\;"><strong>Halloween Parade and Trick or Treat Lane</strong></span></h3>\n\n<ul>\n	<li>The Parade starts at 6:00 p.m. sharp</li>\n	<li>Line up for the Parade at 5:45 p.m. at the Station 1 Firehouse&nbsp\; (corner of Johnson&nbsp\;&amp\; Caledonia streets)&nbsp\;</li>\n	<li>The Halloween Parade finishes at Trick or Treat Lane located at the Robin Sweeny Park&nbsp\;Basketball Courts</li>\n</ul>\n\n<p>&nbsp\;</p>\n\n<div>\n<h3><span style="color:#FF8C00\;"><strong>Howl&rsquo\;O&rsquo\;Ween Dog Costume Contest</strong></span></h3>\n</div>\n\n<ul>\n	<li>6:30 p.m.</li>\n	<li>Robin Sweeny Park</li>\n	<li>Dress up your pups and bring them with you on Halloween to compete&nbsp\;</li>\n	<li>Contest is FREE!</li>\n	<li>Prizes will be awarded to the best&nbsp\;Little Dog (under 35 lbs.) in&nbsp\;costume\, best&nbsp\;Big Dog (over 35 lbs.) in&nbsp\;costume and best couple (human and dog).&nbsp\; &nbsp\;&nbsp\;&nbsp\;</li>\n	<li>Sponsored by Soulmates Animal Care</li>\n</ul>\n\n<div>&nbsp\;</div>\n\n<h3><span style="color:#FF8C00\;"><span style="font-family: inherit\; font-size: 20px\; background-color: transparent\;">Questions</span></span></h3>\n\n<ul>\n	<li>Any questions about Halloween Sausalito may be directed to the City of Sausalito Recreation Department at (415) 289-4198 or jmyers@sausalito.gov</li>\n	<li>The offices of the Parks &amp\; Recreation Department are located at Sausalito City Hall\, 420 Litho Street\, Sausalito\, CA\, 94965</li>\n</ul>\n\n<p>The Halloween Parade and activities in Robin Sweeny Park and the Recreation Center are sponsored by Sausalito Parks &amp\; Recreation\, Caledonia Street Merchants\, and local community groups.&nbsp\;Event Producers: Julie Myers\, Bryan Vitale and Mike Langford.</p>\n
LOCATION:Parade Begins Caledonia & Johnson Street Trick or Treat Lane Robin Sweeny Park Howl-O-Ween Dog Costume Contest Robin Sweeny Park
UID:e.1780.3068
SEQUENCE:3
DTSTAMP:20260422T020820Z
URL:http://business.sausalito.org/events/details/halloween-on-caledonia-street-3068
END:VEVENT

END:VCALENDAR
