BEGIN:VCALENDAR
VERSION:2.0
PRODID:-//ChamberMaster//Event Calendar 2.0//EN
METHOD:PUBLISH
X-PUBLISHED-TTL:P3D
REFRESH-INTERVAL:P3D
CALSCALE:GREGORIAN
BEGIN:VEVENT
DTSTART:20200201T183000Z
DTEND:20200201T200000Z
X-MICROSOFT-CDO-ALLDAYEVENT:FALSE
SUMMARY:Half the Sugar\, All the Love: author Jennifer Tyler Lee
DESCRIPTION:Hi Chamber ?? I have a really nice event coming up early February. Perfect for families looking to cut Saturday February 1 @ 10:30 am Half the Sugar\, All the Love With cookbook author Jennifer Tyler Lee Driver's Market   200 Caledonia Street   Sausalito\, CA   415-729-9582 We all know that kids love sugar. But studies show children today consume at least three times the recommended daily limit. With all this sugar lurking\, how can a parent avoid it and still make quick low-sugar meals kids will love? Join us for a discussion and tasting of some of the recipes in the book. Topics Jennifer will cover include: Debunking the sugar myth   How to avoid added sugar   Kid-friendly\, low-sugar recipe alternatives that even the pickiest eaters will love. * Signed copies of Half the Sugar\, All the Love will be available for purchase. Jennifer will demo a few recipes from the book. Kids are welcome! Please RSVP at www.DriversMarket.com * Jennifer Tyler Lee is an award winning author\, a self-trained home cook\, and a mom to two teens. Her innovative and delicious low-sugar recipes show that quitting sugar doesn't mean giving up the foods you love--the trick is to sweeten them naturally with fruits and vegetables instead of added sugar. Jennifer's first family cookbook\, The 52 New Foods Challenge\, was nominated for an IACP Cookbook Award.
X-ALT-DESC;FMTTYPE=text/html:Hi Chamber ?? I have a really nice event coming up early February. Perfect for families looking to cut Saturday February 1 @ 10:30 am Half the Sugar\, All the Love With cookbook author Jennifer Tyler Lee Driver&#39\;s Market &bull\; 200 Caledonia Street &bull\; Sausalito\, CA &bull\; 415-729-9582 We all know that kids love sugar. But studies show children today consume at least three times the recommended daily limit. With all this sugar lurking\, how can a parent avoid it and still make quick low-sugar meals kids will love? Join us for a discussion and tasting of some of the recipes in the book. Topics Jennifer will cover include: Debunking the sugar myth &bull\; How to avoid added sugar &bull\; Kid-friendly\, low-sugar recipe alternatives that even the pickiest eaters will love. * Signed copies of Half the Sugar\, All the Love will be available for purchase. Jennifer will demo a few recipes from the book. Kids are welcome! Please RSVP at www.DriversMarket.com * Jennifer Tyler Lee is an award winning author\, a self-trained home cook\, and a mom to two teens. Her innovative and delicious low-sugar recipes show that quitting sugar doesn&rsquo\;t mean giving up the foods you love--the trick is to sweeten them naturally with fruits and vegetables instead of added sugar. Jennifer&rsquo\;s first family cookbook\, The 52 New Foods Challenge\, was nominated for an IACP Cookbook Award.
LOCATION:Driver's Market 200 Caledonia Street Sausalito\, CA 415-729-9582
UID:e.1780.2360
SEQUENCE:3
DTSTAMP:20260423T082331Z
URL:http://business.sausalito.org/events/details/half-the-sugar-all-the-love-author-jennifer-tyler-lee-2360
END:VEVENT

END:VCALENDAR
