BEGIN:VCALENDAR
VERSION:2.0
PRODID:-//ChamberMaster//Event Calendar 2.0//EN
METHOD:PUBLISH
X-PUBLISHED-TTL:P3D
REFRESH-INTERVAL:P3D
CALSCALE:GREGORIAN
BEGIN:VEVENT
DTSTART:20211201T190000Z
DTEND:20220101T010000Z
X-MICROSOFT-CDO-ALLDAYEVENT:FALSE
SUMMARY:Gingerbread House Tour - 15 Year!
DESCRIPTION:Enjoy the one-of-a-kind creations from professional and amateur bakers from Sausalito businesses.  This tradition is not to be missed and loved by everyone.\n\nHouses will be on Display December 1 31\n\n\n\nThis Year's Categories:\n\n  Salty Sausalito   Storybook   Cabin Fever   Candy Cane Lane &   Sea Life Adventure\n\nDownload your Map and Vote for the People's Choice Award!
X-ALT-DESC;FMTTYPE=text/html:Enjoy the one-of-a-kind creations from professional and amateur bakers from Sausalito businesses.&nbsp\; This tradition is not to be missed and loved by everyone.\n<div>\n<h3 style="text-align: center\;">Houses will be on Display December 1&mdash\;31</h3>\n</div>\n\n<div>\n<p style="text-align: center\;"><em>This Year&#39\;s Categories:</em></p>\n\n<p style="text-align: center\;"><span style="color:#FF0000\;"><strong>&bull\; Salty Sausalito &bull\; Storybook &bull\; Cabin Fever &bull\; Candy Cane Lane &amp\; &bull\; Sea Life Adventure</strong></span></p>\n\n<p style="text-align: center\;"><strong>Download your Map and Vote for the People&#39\;s Choice Award!</strong></p>\n</div>\n
LOCATION:Various local businesses throughout Sausalito. Consult the map and visitor guide for details. Maps are available for download and for pickup in key locations along the route beginning at the Sausalito Visitor Center. Media Sponsors: Kimber Communications and OurSausalito.com
UID:e.1780.2841
SEQUENCE:3
DTSTAMP:20260421T205047Z
URL:http://business.sausalito.org/events/details/gingerbread-house-tour-15-year-2841
END:VEVENT

END:VCALENDAR
