BEGIN:VCALENDAR
VERSION:2.0
PRODID:-//ChamberMaster//Event Calendar 2.0//EN
METHOD:PUBLISH
X-PUBLISHED-TTL:P3D
REFRESH-INTERVAL:P3D
CALSCALE:GREGORIAN
BEGIN:VEVENT
DTSTART:20181118T210000Z
DTEND:20181119T000000Z
X-MICROSOFT-CDO-ALLDAYEVENT:FALSE
SUMMARY:Giant Knit Blanket Workshop
DESCRIPTION:Learn how to make a dreamy super thick and cozy knit blanket out of wool roving\, plus tips and techniques for caring for these blankets. No knitting experience required! Knit and crochet designer Cara Corey will show you how to use a "table knitting" technique\, forming the stitches with your hands rather than using knitting needles.? In this class you will also learn:   How to source additional wool roving   Where to buy giant knitting needles (if you decide you want them) and how to make your own giant needles out of PVC pipe   How to graft ends together by needle felting   How to care for the wool\, and use felting to prevent it from fuzzing too much
X-ALT-DESC;FMTTYPE=text/html:Learn how to make a dreamy super thick and cozy knit blanket out of wool roving\, plus tips and techniques for caring for these blankets. No knitting experience required! Knit and crochet designer Cara Corey will show you how to use a &quot\;table knitting&quot\; technique\, forming the stitches with your hands rather than using knitting needles.? In this class you will also learn: &bull\; How to source additional wool roving &bull\; Where to buy giant knitting needles (if you decide you want them) and how to make your own giant needles out of PVC pipe &bull\; How to graft ends together by needle felting &bull\; How to care for the wool\, and use felting to prevent it from fuzzing too much
LOCATION:Studio 333\, 333 Caledonia St.\, Sausalito
UID:e.1780.1844
SEQUENCE:3
DTSTAMP:20260424T085433Z
URL:http://business.sausalito.org/events/details/giant-knit-blanket-workshop-1844
END:VEVENT

END:VCALENDAR
