BEGIN:VCALENDAR
VERSION:2.0
PRODID:-//ChamberMaster//Event Calendar 2.0//EN
METHOD:PUBLISH
X-PUBLISHED-TTL:P3D
REFRESH-INTERVAL:P3D
CALSCALE:GREGORIAN
BEGIN:VEVENT
DTSTART:20200308T030000Z
DTEND:20200308T060000Z
X-MICROSOFT-CDO-ALLDAYEVENT:FALSE
SUMMARY:Get Down Motown Magic
DESCRIPTION:Sausalito Woman's Club presents:  Get Down Motown
X-ALT-DESC;FMTTYPE=text/html:Sausalito Woman&#39\;s Club presents:&nbsp\; Get Down Motown
LOCATION:The Spinnaker - 100 Spinnaker Drive
UID:e.1780.2370
SEQUENCE:3
DTSTAMP:20260423T071241Z
URL:http://business.sausalito.org/events/details/get-down-motown-magic-2370
END:VEVENT

END:VCALENDAR
