BEGIN:VCALENDAR
VERSION:2.0
PRODID:-//ChamberMaster//Event Calendar 2.0//EN
METHOD:PUBLISH
X-PUBLISHED-TTL:P3D
REFRESH-INTERVAL:P3D
CALSCALE:GREGORIAN
BEGIN:VEVENT
DTSTART;VALUE=DATE:20210807
DTEND;VALUE=DATE:20210808
TRANSP:TRANSPARENT
X-MICROSOFT-CDO-ALLDAYEVENT:TRUE
SUMMARY:Galilee Harbor Maritime Day Festival
DESCRIPTION:Join Galilee Harbor for a day of live music\, fish & chips and homemade pie on the Sausalito waterfront at our annual Maritime Day festival\, on Saturday\, August 7th. Bring the whole family to this free event. Observe a wooden boat building demonstration by Arques School of Traditional Boatbuilding\, raise a cheer at our dinghy dash race\, see historic vessels\, and go on a free boat ride aboard Galilee Harbor's SV Carodon. Shop the popular marine flea market and artist booths and be sure to purchase a ticket for the Olde Tyme Jar Raffle to win a prize donated by local merchants. Or\, just relax by the bay\, listen to live music\, and catch sight of our resident great blue heron and fellow egrets off the Mono Street marsh. Galilee Harbor Community Association is a cooperative\, liveaboard community dedicated to preserving maritime arts and skills and providing affordable housing on the Sausalito waterfront. Located at 300 Napa Street at Bridgeway\, next to Dunphy Park in Sausalito. We hope to see you here!
X-ALT-DESC;FMTTYPE=text/html:Join Galilee Harbor for a day of live music\, fish &amp\; chips and homemade pie on the Sausalito waterfront at our annual Maritime Day festival\, on Saturday\, August 7th. Bring the whole family to this free event. Observe a wooden boat building demonstration by Arques School of Traditional Boatbuilding\, raise a cheer at our dinghy dash race\, see historic vessels\, and go on a free boat ride aboard Galilee Harbor&#39\;s SV Carodon. Shop the popular marine flea market and artist booths and be sure to purchase a ticket for the Olde Tyme Jar Raffle to win a prize donated by local merchants. Or\, just relax by the bay\, listen to live music\, and catch sight of our resident great blue heron and fellow egrets off the Mono Street marsh. Galilee Harbor Community Association is a cooperative\, liveaboard community dedicated to preserving maritime arts and skills and providing affordable housing on the Sausalito waterfront. Located at 300 Napa Street at Bridgeway\, next to Dunphy Park in Sausalito. We hope to see you here!
LOCATION:Gaililee Harbor\, 300 Napa Street\, Sausalito\, CA 94965.
UID:e.1780.2838
SEQUENCE:3
DTSTAMP:20260422T041214Z
URL:http://business.sausalito.org/events/details/galilee-harbor-maritime-day-festival-2838
END:VEVENT

END:VCALENDAR
