BEGIN:VCALENDAR
VERSION:2.0
PRODID:-//ChamberMaster//Event Calendar 2.0//EN
METHOD:PUBLISH
X-PUBLISHED-TTL:P3D
REFRESH-INTERVAL:P3D
CALSCALE:GREGORIAN
BEGIN:VEVENT
DTSTART:20190803T150000Z
DTEND:20190804T010000Z
X-MICROSOFT-CDO-ALLDAYEVENT:FALSE
SUMMARY:Galilee Harbor Maritime Day 2019
DESCRIPTION:Galilee Harbor would like to invite you to our annual Maritime Day 2019 event. Free admission and a fun day on the Sausalito waterfront for everyone. Activities include: Live Music\, Marine flea market\, Boat rides on the bay\, Dinghy races\, Open boat tours\, Boatbuilding demos\, Fish & chips\, Beer/wine/waters\, Homemade pies\, Silent auction/raffle\, Kids activities. Please invite your friends and family! Galilee Harbor Community Association is a non-profit\, cooperative\, liveaboard community dedicated to supporting the maritime arts and skills while providing affordable floating housing on the Sausalito waterfront.
X-ALT-DESC;FMTTYPE=text/html:Galilee Harbor would like to invite you to our annual Maritime Day 2019 event. Free admission and a fun day on the Sausalito waterfront for everyone. Activities include: Live Music\, Marine flea market\, Boat rides on the bay\, Dinghy races\, Open boat tours\, Boatbuilding demos\, Fish &amp\; chips\, Beer/wine/waters\, Homemade pies\, Silent auction/raffle\, Kids activities. Please invite your friends and family! Galilee Harbor Community Association is a non-profit\, cooperative\, liveaboard community dedicated to supporting the maritime arts and skills while providing affordable floating housing on the Sausalito waterfront.
LOCATION:Galilee Harbor\, 300 Napa Street at Bridgeway\, next to Dunphy Park in Sausalito.
UID:e.1780.2021
SEQUENCE:3
DTSTAMP:20260423T171051Z
URL:http://business.sausalito.org/events/details/galilee-harbor-maritime-day-2019-2021
END:VEVENT

END:VCALENDAR
